Package: UPDhmm Version: 1.6.0 Command: /Library/Frameworks/R.framework/Resources/bin/R CMD INSTALL UPDhmm StartedAt: 2025-10-31 15:25:13 -0400 (Fri, 31 Oct 2025) EndedAt: 2025-10-31 15:25:14 -0400 (Fri, 31 Oct 2025) EllapsedTime: 1.1 seconds RetCode: 0 Status: OK