Package: UPDhmm Version: 1.6.0 Command: /Library/Frameworks/R.framework/Resources/bin/R CMD build --keep-empty-dirs --no-resave-data UPDhmm StartedAt: 2025-10-31 18:08:36 -0400 (Fri, 31 Oct 2025) EndedAt: 2025-10-31 18:08:48 -0400 (Fri, 31 Oct 2025) EllapsedTime: 12.1 seconds RetCode: 0 Status: OK PackageFile: UPDhmm_1.6.0.tar.gz PackageFileSize: 1.111 MiB