Package: UPDhmm Version: 1.6.0 Command: rm -rf UPDhmm.buildbin-libdir && mkdir UPDhmm.buildbin-libdir && /Users/biocbuild/BBS/utils/build-universal.sh UPDhmm_1.6.0.tar.gz /Library/Frameworks/R.framework/Resources/bin/R UPDhmm.buildbin-libdir StartedAt: 2025-10-31 23:27:26 -0400 (Fri, 31 Oct 2025) EndedAt: 2025-10-31 23:27:28 -0400 (Fri, 31 Oct 2025) EllapsedTime: 2.0 seconds RetCode: 0 Status: OK PackageFile: UPDhmm_1.6.0.tgz PackageFileSize: 1.142 MiB