Package: UNDO Version: 1.52.0 Command: /home/biocbuild/bbs-3.22-bioc/R/bin/R CMD check --install=check:UNDO.install-out.txt --library=/home/biocbuild/bbs-3.22-bioc/R/site-library --timings UNDO_1.52.0.tar.gz StartedAt: 2025-11-18 09:42:43 -0500 (Tue, 18 Nov 2025) EndedAt: 2025-11-18 09:43:55 -0500 (Tue, 18 Nov 2025) EllapsedTime: 71.0 seconds RetCode: 0 Status: OK CheckDir: UNDO.Rcheck Warnings: 0