Package: UNDO Version: 1.52.0 Command: /Library/Frameworks/R.framework/Resources/bin/R CMD INSTALL UNDO StartedAt: 2025-11-03 15:19:22 -0500 (Mon, 03 Nov 2025) EndedAt: 2025-11-03 15:19:30 -0500 (Mon, 03 Nov 2025) EllapsedTime: 8.5 seconds RetCode: 0 Status: OK