Package: UNDO Version: 1.52.0 Command: rm -rf UNDO.buildbin-libdir && mkdir UNDO.buildbin-libdir && /Users/biocbuild/BBS/utils/build-universal.sh UNDO_1.52.0.tar.gz /Library/Frameworks/R.framework/Resources/bin/R UNDO.buildbin-libdir StartedAt: 2025-11-04 02:09:59 -0500 (Tue, 04 Nov 2025) EndedAt: 2025-11-04 02:10:07 -0500 (Tue, 04 Nov 2025) EllapsedTime: 8.1 seconds RetCode: 0 Status: OK PackageFile: UNDO_1.52.0.tgz PackageFileSize: 2.888 MiB