Package: UNDO Version: 1.50.0 Command: /home/biocbuild/R/R/bin/R CMD INSTALL UNDO StartedAt: 2025-10-13 20:24:34 -0000 (Mon, 13 Oct 2025) EndedAt: 2025-10-13 20:24:38 -0000 (Mon, 13 Oct 2025) EllapsedTime: 4.1 seconds RetCode: 0 Status: OK