Package: UNDO Version: 1.50.0 Command: /home/biocbuild/R/R/bin/R CMD build --keep-empty-dirs --no-resave-data UNDO StartedAt: 2025-10-14 05:35:42 -0000 (Tue, 14 Oct 2025) EndedAt: 2025-10-14 05:35:53 -0000 (Tue, 14 Oct 2025) EllapsedTime: 11.0 seconds RetCode: 0 Status: OK PackageFile: UNDO_1.50.0.tar.gz PackageFileSize: 2.846 MiB