Package: UMI4Cats Version: 1.20.0 Command: /home/biocbuild/bbs-3.22-bioc/R/bin/R CMD INSTALL UMI4Cats StartedAt: 2025-11-17 18:05:47 -0500 (Mon, 17 Nov 2025) EndedAt: 2025-11-17 18:06:28 -0500 (Mon, 17 Nov 2025) EllapsedTime: 41.0 seconds RetCode: 0 Status: OK