Package: UMI4Cats Version: 1.20.0 Command: /home/biocbuild/bbs-3.22-bioc/R/bin/R CMD build --keep-empty-dirs --no-resave-data --md5 UMI4Cats StartedAt: 2025-11-18 00:07:29 -0500 (Tue, 18 Nov 2025) EndedAt: 2025-11-18 00:10:35 -0500 (Tue, 18 Nov 2025) EllapsedTime: 186.1 seconds RetCode: 0 Status: OK PackageFile: UMI4Cats_1.20.0.tar.gz PackageFileSize: 3.775 MiB