Package: UCell Version: 2.14.0 Command: /home/biocbuild/bbs-3.22-bioc/R/bin/R CMD INSTALL UCell StartedAt: 2025-11-02 15:26:55 -0500 (Sun, 02 Nov 2025) EndedAt: 2025-11-02 15:27:20 -0500 (Sun, 02 Nov 2025) EllapsedTime: 24.7 seconds RetCode: 0 Status: OK