Package: UCSC.utils Version: 1.6.0 Command: /home/biocbuild/R/R/bin/R CMD INSTALL UCSC.utils StartedAt: 2025-11-10 21:18:10 -0000 (Mon, 10 Nov 2025) EndedAt: 2025-11-10 21:18:16 -0000 (Mon, 10 Nov 2025) EllapsedTime: 5.8 seconds RetCode: 0 Status: OK