Package: UCSC.utils Version: 1.6.0 Command: /home/biocbuild/R/R/bin/R CMD build --keep-empty-dirs --no-resave-data UCSC.utils StartedAt: 2025-11-11 06:03:19 -0000 (Tue, 11 Nov 2025) EndedAt: 2025-11-11 06:03:38 -0000 (Tue, 11 Nov 2025) EllapsedTime: 19.0 seconds RetCode: 0 Status: OK PackageFile: UCSC.utils_1.6.0.tar.gz PackageFileSize: 255.9 KiB