Package: UCSC.utils Version: 1.6.0 Command: /home/biocbuild/bbs-3.22-bioc/R/bin/R CMD check --install=check:UCSC.utils.install-out.txt --library=/home/biocbuild/bbs-3.22-bioc/R/site-library --timings UCSC.utils_1.6.0.tar.gz StartedAt: 2025-11-12 05:15:07 -0500 (Wed, 12 Nov 2025) EndedAt: 2025-11-12 05:16:13 -0500 (Wed, 12 Nov 2025) EllapsedTime: 66.0 seconds RetCode: 0 Status: OK CheckDir: UCSC.utils.Rcheck Warnings: 0