Package: UCSC.utils Version: 1.4.0 Command: /Library/Frameworks/R.framework/Resources/bin/R CMD INSTALL UCSC.utils StartedAt: 2025-10-06 15:20:01 -0400 (Mon, 06 Oct 2025) EndedAt: 2025-10-06 15:20:14 -0400 (Mon, 06 Oct 2025) EllapsedTime: 13.6 seconds RetCode: 0 Status: OK