Package: UCSC.utils Version: 1.4.0 Command: rm -rf UCSC.utils.buildbin-libdir && mkdir UCSC.utils.buildbin-libdir && /Users/biocbuild/BBS/utils/build-universal.sh UCSC.utils_1.4.0.tar.gz /Library/Frameworks/R.framework/Resources/bin/R UCSC.utils.buildbin-libdir StartedAt: 2025-10-07 14:48:37 -0400 (Tue, 07 Oct 2025) EndedAt: 2025-10-07 14:48:50 -0400 (Tue, 07 Oct 2025) EllapsedTime: 13.0 seconds RetCode: 0 Status: OK PackageFile: UCSC.utils_1.4.0.tgz PackageFileSize: 282.9 KiB