Package: UCSC.utils Version: 1.4.0 Command: /home/biocbuild/R/R/bin/R CMD INSTALL UCSC.utils StartedAt: 2025-09-25 20:24:54 -0000 (Thu, 25 Sep 2025) EndedAt: 2025-09-25 20:25:00 -0000 (Thu, 25 Sep 2025) EllapsedTime: 6.4 seconds RetCode: 0 Status: OK