Package: UCSC.utils Version: 1.4.0 Maintainer: Hervé Pagès MaintainerEmail: hpages.on.github at gmail.com git_url: https://git.bioconductor.org/packages/UCSC.utils git_branch: RELEASE_3_21 git_last_commit: 8ff2504 git_last_commit_date: 2025-04-15 13:32:31 -0400 (Tue, 15 Apr 2025)