Package: TurboNorm Version: 1.58.0 Command: /home/biocbuild/R/R/bin/R CMD build --keep-empty-dirs --no-resave-data TurboNorm StartedAt: 2025-11-14 06:08:42 -0000 (Fri, 14 Nov 2025) EndedAt: 2025-11-14 06:08:56 -0000 (Fri, 14 Nov 2025) EllapsedTime: 14.0 seconds RetCode: 0 Status: OK PackageFile: TurboNorm_1.58.0.tar.gz PackageFileSize: 2.011 MiB