Package: TurboNorm Version: 1.58.0 Command: /home/biocbuild/bbs-3.22-bioc/R/bin/R CMD INSTALL TurboNorm StartedAt: 2025-11-11 15:17:48 -0500 (Tue, 11 Nov 2025) EndedAt: 2025-11-11 15:17:53 -0500 (Tue, 11 Nov 2025) EllapsedTime: 4.5 seconds RetCode: 0 Status: OK