Package: TurboNorm Version: 1.56.0 Command: /home/biocbuild/bbs-3.21-bioc/R/bin/R CMD INSTALL TurboNorm StartedAt: 2025-10-01 15:15:54 -0400 (Wed, 01 Oct 2025) EndedAt: 2025-10-01 15:15:59 -0400 (Wed, 01 Oct 2025) EllapsedTime: 4.9 seconds RetCode: 0 Status: OK