Package: TurboNorm Version: 1.56.0 Command: /home/biocbuild/bbs-3.21-bioc/R/bin/R CMD build --keep-empty-dirs --no-resave-data TurboNorm StartedAt: 2025-10-01 20:28:47 -0400 (Wed, 01 Oct 2025) EndedAt: 2025-10-01 20:28:59 -0400 (Wed, 01 Oct 2025) EllapsedTime: 12.0 seconds RetCode: 0 Status: OK PackageFile: TurboNorm_1.56.0.tar.gz PackageFileSize: 2.021 MiB