Package: TurboNorm Version: 1.56.0 Command: /Library/Frameworks/R.framework/Resources/bin/R CMD INSTALL TurboNorm StartedAt: 2025-10-13 15:24:09 -0400 (Mon, 13 Oct 2025) EndedAt: 2025-10-13 15:24:20 -0400 (Mon, 13 Oct 2025) EllapsedTime: 11.1 seconds RetCode: 0 Status: OK