Package: TurboNorm Version: 1.56.0 Command: /Library/Frameworks/R.framework/Resources/bin/R CMD build --keep-empty-dirs --no-resave-data TurboNorm StartedAt: 2025-10-13 23:24:22 -0400 (Mon, 13 Oct 2025) EndedAt: 2025-10-13 23:24:58 -0400 (Mon, 13 Oct 2025) EllapsedTime: 35.8 seconds RetCode: 0 Status: OK PackageFile: TurboNorm_1.56.0.tar.gz PackageFileSize: 2.02 MiB