Package: TurboNorm Version: 1.56.0 Command: /Library/Frameworks/R.framework/Resources/bin/R CMD build --keep-empty-dirs --no-resave-data TurboNorm StartedAt: 2025-04-21 18:47:21 -0400 (Mon, 21 Apr 2025) EndedAt: 2025-04-21 18:47:43 -0400 (Mon, 21 Apr 2025) EllapsedTime: 21.8 seconds RetCode: 0 Status: OK PackageFile: TurboNorm_1.56.0.tar.gz PackageFileSize: 2.021 MiB