Package: TurboNorm Version: 1.56.0 Command: /Library/Frameworks/R.framework/Resources/bin/R CMD build --keep-empty-dirs --no-resave-data TurboNorm StartedAt: 2025-09-30 11:24:46 -0400 (Tue, 30 Sep 2025) EndedAt: 2025-09-30 11:25:09 -0400 (Tue, 30 Sep 2025) EllapsedTime: 22.6 seconds RetCode: 0 Status: OK PackageFile: TurboNorm_1.56.0.tar.gz PackageFileSize: 2.021 MiB