Package: Trendy Version: 1.32.0 Command: /home/biocbuild/bbs-3.22-bioc/R/bin/R CMD INSTALL Trendy StartedAt: 2025-11-06 15:55:13 -0500 (Thu, 06 Nov 2025) EndedAt: 2025-11-06 15:55:37 -0500 (Thu, 06 Nov 2025) EllapsedTime: 23.8 seconds RetCode: 0 Status: OK