Package: Trendy Version: 1.32.0 Command: /home/biocbuild/bbs-3.22-bioc/R/bin/R CMD build --keep-empty-dirs --no-resave-data --md5 Trendy StartedAt: 2025-11-06 20:36:07 -0500 (Thu, 06 Nov 2025) EndedAt: 2025-11-06 20:37:12 -0500 (Thu, 06 Nov 2025) EllapsedTime: 65.1 seconds RetCode: 0 Status: OK PackageFile: Trendy_1.32.0.tar.gz PackageFileSize: 1.085 MiB