Package: TreeSummarizedExperiment Version: 2.18.0 Command: /home/biocbuild/R/R/bin/R CMD INSTALL TreeSummarizedExperiment StartedAt: 2025-11-10 21:31:12 -0000 (Mon, 10 Nov 2025) EndedAt: 2025-11-10 21:31:55 -0000 (Mon, 10 Nov 2025) EllapsedTime: 43.3 seconds RetCode: 0 Status: OK