Package: TreeSummarizedExperiment Version: 2.18.0 Command: /home/biocbuild/R/R/bin/R CMD check --install=check:TreeSummarizedExperiment.install-out.txt --library=/home/biocbuild/R/R/site-library --no-vignettes --timings TreeSummarizedExperiment_2.18.0.tar.gz StartedAt: 2025-11-14 16:02:18 -0000 (Fri, 14 Nov 2025) EndedAt: 2025-11-14 16:42:18 -0000 (Fri, 14 Nov 2025) EllapsedTime: 2400.0 seconds RetCode: None Status: TIMEOUT CheckDir: TreeSummarizedExperiment.Rcheck Warnings: NA