Package: TreeSummarizedExperiment Version: 2.18.0 Command: /home/biocbuild/R/R/bin/R CMD build --keep-empty-dirs --no-resave-data TreeSummarizedExperiment StartedAt: 2025-11-11 05:58:28 -0000 (Tue, 11 Nov 2025) EndedAt: 2025-11-11 05:59:49 -0000 (Tue, 11 Nov 2025) EllapsedTime: 81.1 seconds RetCode: 0 Status: OK PackageFile: TreeSummarizedExperiment_2.18.0.tar.gz PackageFileSize: 1.057 MiB