Package: TreeSummarizedExperiment Version: 2.18.0 Command: /home/biocbuild/bbs-3.22-bioc/R/bin/R CMD check --install=check:TreeSummarizedExperiment.install-out.txt --library=/home/biocbuild/bbs-3.22-bioc/R/site-library --timings TreeSummarizedExperiment_2.18.0.tar.gz StartedAt: 2025-11-12 05:09:46 -0500 (Wed, 12 Nov 2025) EndedAt: 2025-11-12 05:15:43 -0500 (Wed, 12 Nov 2025) EllapsedTime: 357.5 seconds RetCode: 0 Status: OK CheckDir: TreeSummarizedExperiment.Rcheck Warnings: 0