Package: TreeSummarizedExperiment Version: 2.18.0 Command: /home/biocbuild/bbs-3.22-bioc/R/bin/R CMD build --keep-empty-dirs --no-resave-data --md5 TreeSummarizedExperiment StartedAt: 2025-11-11 20:44:43 -0500 (Tue, 11 Nov 2025) EndedAt: 2025-11-11 20:45:39 -0500 (Tue, 11 Nov 2025) EllapsedTime: 56.0 seconds RetCode: 0 Status: OK PackageFile: TreeSummarizedExperiment_2.18.0.tar.gz PackageFileSize: 1.111 MiB