Package: TreeSummarizedExperiment Version: 2.16.1 Command: /home/biocbuild/bbs-3.21-bioc/R/bin/R CMD check --install=check:TreeSummarizedExperiment.install-out.txt --library=/home/biocbuild/bbs-3.21-bioc/R/site-library --timings TreeSummarizedExperiment_2.16.1.tar.gz StartedAt: 2025-10-16 04:34:03 -0400 (Thu, 16 Oct 2025) EndedAt: 2025-10-16 04:40:24 -0400 (Thu, 16 Oct 2025) EllapsedTime: 381.5 seconds RetCode: 0 Status: OK CheckDir: TreeSummarizedExperiment.Rcheck Warnings: 0