Package: TreeSummarizedExperiment Version: 2.16.1 Command: /home/biocbuild/R/R/bin/R CMD check --install=check:TreeSummarizedExperiment.install-out.txt --library=/home/biocbuild/R/R/site-library --no-vignettes --timings TreeSummarizedExperiment_2.16.1.tar.gz StartedAt: 2025-08-19 15:06:23 -0000 (Tue, 19 Aug 2025) EndedAt: 2025-08-19 15:13:49 -0000 (Tue, 19 Aug 2025) EllapsedTime: 445.6 seconds RetCode: 0 Status: OK CheckDir: TreeSummarizedExperiment.Rcheck Warnings: 0