Package: TreeSummarizedExperiment Version: 2.16.1 Command: /Library/Frameworks/R.framework/Resources/bin/R CMD check --install=check:TreeSummarizedExperiment.install-out.txt --library=/Library/Frameworks/R.framework/Resources/library --no-vignettes --timings TreeSummarizedExperiment_2.16.1.tar.gz StartedAt: 2025-10-15 15:57:04 -0400 (Wed, 15 Oct 2025) EndedAt: 2025-10-15 16:03:45 -0400 (Wed, 15 Oct 2025) EllapsedTime: 401.4 seconds RetCode: 0 Status: OK CheckDir: TreeSummarizedExperiment.Rcheck Warnings: 0