Back to Build/check report for BioC 3.22:   simplified   long
ABCDEFGHIJKLMNOPQRS[T]UVWXYZ

This page was generated on 2025-11-13 11:55 -0500 (Thu, 13 Nov 2025).

HostnameOSArch (*)R versionInstalled pkgs
taishanLinux (openEuler 24.03 LTS)aarch644.5.0 (2025-04-11) -- "How About a Twenty-Six" 4668
Click on any hostname to see more info about the system (e.g. compilers)      (*) as reported by 'uname -p', except on Windows and Mac OS X

All results for package TreeSummarizedExperiment


To the developers/maintainers of the TreeSummarizedExperiment package:
- Allow up to 24 hours (and sometimes 48 hours) for your latest push to git@git.bioconductor.org:packages/TreeSummarizedExperiment.git to reflect on this report. See Troubleshooting Build Report for more information.
- Use the following Renviron settings to reproduce errors and warnings.
- If 'R CMD check' started to fail recently on the Linux builder(s) over a missing dependency, add the missing dependency to 'Suggests:' in your DESCRIPTION file. See Renviron.bioc for more information.

raw results

Package 2261/2361HostnameOS / ArchINSTALLBUILDCHECKBUILD BIN
TreeSummarizedExperiment 2.18.0  (landing page)
Ruizhu Huang
Snapshot Date: 2025-11-12 13:45 -0500 (Wed, 12 Nov 2025)
git_url: https://git.bioconductor.org/packages/TreeSummarizedExperiment
git_branch: RELEASE_3_22
git_last_commit: f463a1d
git_last_commit_date: 2025-10-29 10:52:27 -0500 (Wed, 29 Oct 2025)
taishanLinux (openEuler 24.03 LTS) / aarch64  OK    OK    OK  



Results for Bioconductor software packages that depend directly on package TreeSummarizedExperiment

QUICK STATSOS / ArchINSTALLBUILDCHECKBUILD BIN
taishanLinux (openEuler 24.03 LTS) / aarch64
0016
0016
21013
Package 1/16HostnameOS / ArchINSTALLBUILDCHECKBUILD BIN
anansi 1.0.0  (landing page)
Thomaz Bastiaanssen
git_last_commit: 78b4ccb
git_last_commit_date: 2025-10-29 11:38:37 -0500
taishanLinux (openEuler 24.03 LTS) / aarch64  OK    OK    OK  
Package 2/16HostnameOS / ArchINSTALLBUILDCHECKBUILD BIN
benchdamic 1.16.0  (landing page)
Matteo Calgaro
git_last_commit: fcdab2a
git_last_commit_date: 2025-10-29 11:13:16 -0500
taishanLinux (openEuler 24.03 LTS) / aarch64  OK    OK    ERROR  
Package 3/16HostnameOS / ArchINSTALLBUILDCHECKBUILD BIN
DspikeIn 1.0.0  (landing page)
Mitra Ghotbi
git_last_commit: 8a427ff
git_last_commit_date: 2025-10-29 11:39:12 -0500
taishanLinux (openEuler 24.03 LTS) / aarch64  OK    OK    OK  
Package 4/16HostnameOS / ArchINSTALLBUILDCHECKBUILD BIN
ExperimentSubset 1.20.0  (landing page)
Irzam Sarfraz
git_last_commit: fe8c338
git_last_commit_date: 2025-10-29 11:03:30 -0500
taishanLinux (openEuler 24.03 LTS) / aarch64  OK    OK    OK  
Package 5/16HostnameOS / ArchINSTALLBUILDCHECKBUILD BIN
HoloFoodR 1.4.0  (landing page)
Tuomas Borman
git_last_commit: e2cd9d0
git_last_commit_date: 2025-10-29 11:30:56 -0500
taishanLinux (openEuler 24.03 LTS) / aarch64  OK    OK    OK  
Package 6/16HostnameOS / ArchINSTALLBUILDCHECKBUILD BIN
iSEEtree 1.4.0  (landing page)
Giulio Benedetti
git_last_commit: 6f3f93e
git_last_commit_date: 2025-10-29 11:31:13 -0500
taishanLinux (openEuler 24.03 LTS) / aarch64  OK    OK    OK  
Package 7/16HostnameOS / ArchINSTALLBUILDCHECKBUILD BIN
maaslin3 1.2.0  (landing page)
William Nickols
git_last_commit: 9669f95
git_last_commit_date: 2025-10-29 11:33:46 -0500
taishanLinux (openEuler 24.03 LTS) / aarch64  OK    OK    OK  
Package 8/16HostnameOS / ArchINSTALLBUILDCHECKBUILD BIN
MGnifyR 1.6.0  (landing page)
Tuomas Borman
git_last_commit: 0aee502
git_last_commit_date: 2025-10-29 11:28:57 -0500
taishanLinux (openEuler 24.03 LTS) / aarch64  OK    OK    OK  
Package 9/16HostnameOS / ArchINSTALLBUILDCHECKBUILD BIN
mia 1.18.0  (landing page)
Tuomas Borman
git_last_commit: ad28035
git_last_commit_date: 2025-10-29 11:07:20 -0500
taishanLinux (openEuler 24.03 LTS) / aarch64  OK    OK    TIMEOUT  
Package 10/16HostnameOS / ArchINSTALLBUILDCHECKBUILD BIN
miaDash 1.2.0  (landing page)
Giulio Benedetti
git_last_commit: b230dcf
git_last_commit_date: 2025-10-29 11:35:29 -0500
taishanLinux (openEuler 24.03 LTS) / aarch64  OK    OK    OK  
Package 11/16HostnameOS / ArchINSTALLBUILDCHECKBUILD BIN
miaSim 1.16.0  (landing page)
Yagmur Simsek
git_last_commit: 7f36b16
git_last_commit_date: 2025-10-29 11:13:14 -0500
taishanLinux (openEuler 24.03 LTS) / aarch64  OK    OK    OK  
Package 12/16HostnameOS / ArchINSTALLBUILDCHECKBUILD BIN
miaTime 1.0.0  (landing page)
Tuomas Borman
git_last_commit: 26f2a82
git_last_commit_date: 2025-10-29 11:37:15 -0500
taishanLinux (openEuler 24.03 LTS) / aarch64  OK    OK    OK  
Package 13/16HostnameOS / ArchINSTALLBUILDCHECKBUILD BIN
miaViz 1.18.0  (landing page)
Tuomas Borman
git_last_commit: 3d494da
git_last_commit_date: 2025-10-29 11:07:33 -0500
taishanLinux (openEuler 24.03 LTS) / aarch64  OK    OK    OK  
Package 14/16HostnameOS / ArchINSTALLBUILDCHECKBUILD BIN
microSTASIS 1.10.0  (landing page)
Pedro Sánchez-Sánchez
git_last_commit: f0b0cd8
git_last_commit_date: 2025-10-29 11:20:08 -0500
taishanLinux (openEuler 24.03 LTS) / aarch64  OK    OK    TIMEOUT  
Package 15/16HostnameOS / ArchINSTALLBUILDCHECKBUILD BIN
PLSDAbatch 1.6.0  (landing page)
Yiwen (Eva) Wang
git_last_commit: 77783a7
git_last_commit_date: 2025-10-29 11:26:59 -0500
taishanLinux (openEuler 24.03 LTS) / aarch64  OK    OK    OK  
Package 16/16HostnameOS / ArchINSTALLBUILDCHECKBUILD BIN
treeclimbR 1.6.0  (landing page)
Charlotte Soneson
git_last_commit: 45ad92c
git_last_commit_date: 2025-10-29 11:28:31 -0500
taishanLinux (openEuler 24.03 LTS) / aarch64  OK    OK    OK