Package: TreeAndLeaf Version: 1.22.0 Command: /home/biocbuild/R/R/bin/R CMD build --keep-empty-dirs --no-resave-data TreeAndLeaf StartedAt: 2025-11-11 05:58:00 -0000 (Tue, 11 Nov 2025) EndedAt: 2025-11-11 05:58:15 -0000 (Tue, 11 Nov 2025) EllapsedTime: 15.0 seconds RetCode: 0 Status: OK PackageFile: TreeAndLeaf_1.22.0.tar.gz PackageFileSize: 5.646 MiB