Package: TreeAndLeaf Version: 1.20.0 Command: chmod a+r TreeAndLeaf -R && E:\biocbuild\bbs-3.21-bioc\R\bin\R.exe CMD build --keep-empty-dirs --no-resave-data TreeAndLeaf StartedAt: 2025-08-14 22:48:17 -0400 (Thu, 14 Aug 2025) EndedAt: 2025-08-14 22:48:51 -0400 (Thu, 14 Aug 2025) EllapsedTime: 34.1 seconds RetCode: 0 Status: OK PackageFile: TreeAndLeaf_1.20.0.tar.gz PackageFileSize: 5.594 MiB