Package: TreeAndLeaf Version: 1.22.0 Command: /home/biocbuild/bbs-3.22-bioc/R/bin/R CMD check --install=check:TreeAndLeaf.install-out.txt --library=/home/biocbuild/bbs-3.22-bioc/R/site-library --timings TreeAndLeaf_1.22.0.tar.gz StartedAt: 2025-11-12 05:08:48 -0500 (Wed, 12 Nov 2025) EndedAt: 2025-11-12 05:09:46 -0500 (Wed, 12 Nov 2025) EllapsedTime: 58.1 seconds RetCode: 0 Status: OK CheckDir: TreeAndLeaf.Rcheck Warnings: 0