Package: TreeAndLeaf Version: 1.22.0 Command: /home/biocbuild/bbs-3.22-bioc/R/bin/R CMD build --keep-empty-dirs --no-resave-data --md5 TreeAndLeaf StartedAt: 2025-11-11 20:44:32 -0500 (Tue, 11 Nov 2025) EndedAt: 2025-11-11 20:44:43 -0500 (Tue, 11 Nov 2025) EllapsedTime: 11.0 seconds RetCode: 0 Status: OK PackageFile: TreeAndLeaf_1.22.0.tar.gz PackageFileSize: 5.883 MiB