Package: TreeAndLeaf Version: 1.20.0 Command: /Library/Frameworks/R.framework/Resources/bin/R CMD INSTALL TreeAndLeaf StartedAt: 2025-10-13 15:12:49 -0400 (Mon, 13 Oct 2025) EndedAt: 2025-10-13 15:13:45 -0400 (Mon, 13 Oct 2025) EllapsedTime: 55.8 seconds RetCode: 0 Status: OK