Package: TransView Version: 1.52.0 Command: /home/biocbuild/bbs-3.21-bioc/R/bin/R CMD INSTALL TransView StartedAt: 2025-10-15 15:14:47 -0400 (Wed, 15 Oct 2025) EndedAt: 2025-10-15 15:15:03 -0400 (Wed, 15 Oct 2025) EllapsedTime: 15.9 seconds RetCode: 0 Status: OK