Package: TransView Version: 1.52.0 Command: /home/biocbuild/bbs-3.21-bioc/R/bin/R CMD build --keep-empty-dirs --no-resave-data TransView StartedAt: 2025-10-15 20:22:41 -0400 (Wed, 15 Oct 2025) EndedAt: 2025-10-15 20:23:00 -0400 (Wed, 15 Oct 2025) EllapsedTime: 19.1 seconds RetCode: 1 Status: ERROR PackageFile: None PackageFileSize: NA