Package: TransView Version: 1.52.0 Command: /home/biocbuild/R/R/bin/R CMD INSTALL TransView StartedAt: 2025-09-25 20:28:20 -0000 (Thu, 25 Sep 2025) EndedAt: 2025-09-25 20:28:41 -0000 (Thu, 25 Sep 2025) EllapsedTime: 21.7 seconds RetCode: 0 Status: OK