Package: TransView Version: 1.52.0 Command: /Library/Frameworks/R.framework/Resources/bin/R CMD INSTALL TransView StartedAt: 2025-10-13 16:00:54 -0400 (Mon, 13 Oct 2025) EndedAt: 2025-10-13 16:01:14 -0400 (Mon, 13 Oct 2025) EllapsedTime: 20.0 seconds RetCode: 0 Status: OK