Package: TransView Version: 1.52.0 Command: /Library/Frameworks/R.framework/Resources/bin/R CMD build --keep-empty-dirs --no-resave-data TransView StartedAt: 2025-10-14 11:21:43 -0400 (Tue, 14 Oct 2025) EndedAt: 2025-10-14 11:22:22 -0400 (Tue, 14 Oct 2025) EllapsedTime: 39.8 seconds RetCode: 0 Status: OK PackageFile: TransView_1.52.0.tar.gz PackageFileSize: 1.82 MiB