Package: TransView Version: 1.54.0 Maintainer: Julius Muller MaintainerEmail: ju-mu at alumni.ethz.ch git_url: https://git.bioconductor.org/packages/TransView git_branch: RELEASE_3_22 git_last_commit: 23c9dd4 git_last_commit_date: 2025-10-29 10:12:30 -0400 (Wed, 29 Oct 2025)