Package: TrajectoryUtils Version: 1.18.0 Command: /home/biocbuild/R/R/bin/R CMD check --install=check:TrajectoryUtils.install-out.txt --library=/home/biocbuild/R/R/site-library --no-vignettes --timings TrajectoryUtils_1.18.0.tar.gz StartedAt: 2025-11-11 15:57:12 -0000 (Tue, 11 Nov 2025) EndedAt: 2025-11-11 16:00:44 -0000 (Tue, 11 Nov 2025) EllapsedTime: 212.3 seconds RetCode: 0 Status: OK CheckDir: TrajectoryUtils.Rcheck Warnings: 0