Package: TrajectoryUtils Version: 1.18.0 Command: /home/biocbuild/bbs-3.22-bioc/R/bin/R CMD INSTALL TrajectoryUtils StartedAt: 2025-11-13 15:25:30 -0500 (Thu, 13 Nov 2025) EndedAt: 2025-11-13 15:25:54 -0500 (Thu, 13 Nov 2025) EllapsedTime: 23.1 seconds RetCode: 0 Status: OK